BEGIN:VCALENDAR
VERSION:2.0
PRODID:-//Site de la commune de Saint-André-de-Lidon - ECPv5.1.2//NONSGML v1.0//EN
CALSCALE:GREGORIAN
METHOD:PUBLISH
X-WR-CALNAME:Site de la commune de Saint-André-de-Lidon
X-ORIGINAL-URL:https://www.saint-andre-de-lidon.fr
X-WR-CALDESC:Évènements pour Site de la commune de Saint-André-de-Lidon
BEGIN:VTIMEZONE
TZID:Europe/Paris
BEGIN:DAYLIGHT
TZOFFSETFROM:+0100
TZOFFSETTO:+0200
TZNAME:CEST
DTSTART:20230326T010000
END:DAYLIGHT
BEGIN:STANDARD
TZOFFSETFROM:+0200
TZOFFSETTO:+0100
TZNAME:CET
DTSTART:20231029T010000
END:STANDARD
END:VTIMEZONE
BEGIN:VEVENT
DTSTART;TZID=Europe/Paris:20230408T193000
DTEND;TZID=Europe/Paris:20230408T233000
DTSTAMP:20260423T093736
CREATED:20230303T090846Z
LAST-MODIFIED:20230303T090846Z
UID:15901-1680982200-1680996600@www.saint-andre-de-lidon.fr
SUMMARY:Karaoké organisé par l'USL
DESCRIPTION: \n
URL:https://www.saint-andre-de-lidon.fr/evenement/karaoke-organise-par-lusl/
END:VEVENT
END:VCALENDAR