BEGIN:VCALENDAR
VERSION:2.0
PRODID:-//Site de la commune de Saint-André-de-Lidon - ECPv5.1.2//NONSGML v1.0//EN
CALSCALE:GREGORIAN
METHOD:PUBLISH
X-WR-CALNAME:Site de la commune de Saint-André-de-Lidon
X-ORIGINAL-URL:https://www.saint-andre-de-lidon.fr
X-WR-CALDESC:Évènements pour Site de la commune de Saint-André-de-Lidon
BEGIN:VTIMEZONE
TZID:Europe/Paris
BEGIN:DAYLIGHT
TZOFFSETFROM:+0100
TZOFFSETTO:+0200
TZNAME:CEST
DTSTART:20230326T010000
END:DAYLIGHT
BEGIN:STANDARD
TZOFFSETFROM:+0200
TZOFFSETTO:+0100
TZNAME:CET
DTSTART:20231029T010000
END:STANDARD
END:VTIMEZONE
BEGIN:VEVENT
DTSTART;TZID=Europe/Paris:20230212T150000
DTEND;TZID=Europe/Paris:20230212T170000
DTSTAMP:20260423T162919
CREATED:20230203T083833Z
LAST-MODIFIED:20230203T084015Z
UID:15834-1676214000-1676221200@www.saint-andre-de-lidon.fr
SUMMARY:L'Invité - Théâtre à la salle des fêtes
DESCRIPTION: \n
URL:https://www.saint-andre-de-lidon.fr/evenement/linvite-theatre/
END:VEVENT
END:VCALENDAR