BEGIN:VCALENDAR
VERSION:2.0
PRODID:-//Site de la commune de Saint-André-de-Lidon - ECPv5.1.2//NONSGML v1.0//EN
CALSCALE:GREGORIAN
METHOD:PUBLISH
X-WR-CALNAME:Site de la commune de Saint-André-de-Lidon
X-ORIGINAL-URL:https://www.saint-andre-de-lidon.fr
X-WR-CALDESC:Évènements pour Site de la commune de Saint-André-de-Lidon
BEGIN:VTIMEZONE
TZID:Europe/Paris
BEGIN:DAYLIGHT
TZOFFSETFROM:+0100
TZOFFSETTO:+0200
TZNAME:CEST
DTSTART:20230326T010000
END:DAYLIGHT
BEGIN:STANDARD
TZOFFSETFROM:+0200
TZOFFSETTO:+0100
TZNAME:CET
DTSTART:20231029T010000
END:STANDARD
END:VTIMEZONE
BEGIN:VEVENT
DTSTART;TZID=Europe/Paris:20230318T190000
DTEND;TZID=Europe/Paris:20230318T233000
DTSTAMP:20260423T145557
CREATED:20230216T145129Z
LAST-MODIFIED:20230216T145513Z
UID:15866-1679166000-1679182200@www.saint-andre-de-lidon.fr
SUMMARY:LOTO USL
DESCRIPTION: \n\n\n\n\nATTENTION !  \nSALLE DES FÊTES DE \nGÉMOZAC  \n  \n\n\n\n\n
URL:https://www.saint-andre-de-lidon.fr/evenement/loto-usl/
END:VEVENT
END:VCALENDAR