BEGIN:VCALENDAR
VERSION:2.0
PRODID:-//Site de la commune de Saint-André-de-Lidon - ECPv5.1.2//NONSGML v1.0//EN
CALSCALE:GREGORIAN
METHOD:PUBLISH
X-WR-CALNAME:Site de la commune de Saint-André-de-Lidon
X-ORIGINAL-URL:https://www.saint-andre-de-lidon.fr
X-WR-CALDESC:Évènements pour Site de la commune de Saint-André-de-Lidon
BEGIN:VTIMEZONE
TZID:Europe/Paris
BEGIN:DAYLIGHT
TZOFFSETFROM:+0100
TZOFFSETTO:+0200
TZNAME:CEST
DTSTART:20200329T010000
END:DAYLIGHT
BEGIN:STANDARD
TZOFFSETFROM:+0200
TZOFFSETTO:+0100
TZNAME:CET
DTSTART:20201025T010000
END:STANDARD
END:VTIMEZONE
BEGIN:VEVENT
DTSTART;TZID=Europe/Paris:20200615T200000
DTEND;TZID=Europe/Paris:20200615T220000
DTSTAMP:20260423T115106
CREATED:20200605T130301Z
LAST-MODIFIED:20200605T130301Z
UID:12253-1592251200-1592258400@www.saint-andre-de-lidon.fr
SUMMARY:Réunion de la commission Bâtiments
DESCRIPTION:La réunion de la commission Bâtiment se tiendra en mairie \n
URL:https://www.saint-andre-de-lidon.fr/evenement/reunion-de-la-commission-batiments/
END:VEVENT
END:VCALENDAR